BEGIN:VCALENDAR
VERSION:2.0
CALSCALE:GREGORIAN
PRODID:-//Diputació de Barcelona//DibaCMS//EN
BEGIN:VEVENT
UID:5408
DTSTAMP:20260420T145648
DTSTART:20221211T110000
DTEND:20221211T200000
SUMMARY:ULLASTROC: Mercat d'intercani i de segona mà
LOCATION:
METHOD:PUBLISH
X-WR-CALNAME:ullastrell@ullastrell.cat
X-WR-TIMEZONE:Europe/Madrid
DESCRIPTION:El pròxim diumenge 11 de desembre, es durà a terme una nova edició de l'Ullastroc: mercat d'intercanvi i segona mà.

URI:https://www.ullastrell.cat/actualitat/agenda/ullastroc-mercat-dintercani-i-de-segona-ma.html
CLASS:PUBLIC
END:VEVENT
END:VCALENDAR
