BEGIN:VCALENDAR
VERSION:2.0
CALSCALE:GREGORIAN
PRODID:-//Diputació de Barcelona//DibaCMS//EN
BEGIN:VEVENT
UID:5431
DTSTAMP:20260420T131629
DTSTART:20230112T100000
DTEND:20230119T180000
SUMMARY:CONTE VA CONTE VE — JUGUEM AMB ELS CONTES
LOCATION:C/ Josep Fornell, s/n 08231 Ullastrell
METHOD:PUBLISH
X-WR-CALNAME:ullastrell@ullastrell.cat
X-WR-TIMEZONE:Europe/Madrid
DESCRIPTION:A càrrec d’Aïda Puig

URI:https://www.ullastrell.cat/actualitat/agenda/conte-va-conte-ve--juguem-amb-els-contes.html
CLASS:PUBLIC
END:VEVENT
END:VCALENDAR
