BEGIN:VCALENDAR
VERSION:2.0
CALSCALE:GREGORIAN
PRODID:-//Diputació de Barcelona//DibaCMS//EN
BEGIN:VEVENT
UID:5435
DTSTAMP:20260420T125440
DTSTART:20230119T170000
DTEND:20230119T183000
SUMMARY:JOCS DE TAULA  10 - 16 anys
LOCATION:C/ Josep Fornell, s/n 08231 Ullastrell
METHOD:PUBLISH
X-WR-CALNAME:ullastrell@ullastrell.cat
X-WR-TIMEZONE:Europe/Madrid
DESCRIPTION:Per a adolescents.

URI:https://www.ullastrell.cat/actualitat/agenda/jocs-de-taula-10-16-anys.html
CLASS:PUBLIC
END:VEVENT
END:VCALENDAR
