BEGIN:VCALENDAR
VERSION:2.0
CALSCALE:GREGORIAN
PRODID:-//Diputació de Barcelona//DibaCMS//EN
BEGIN:VEVENT
UID:5437
DTSTAMP:20260420T144337
DTSTART:20230126T180000
DTEND:20230126T200000
SUMMARY:TALLER- ESPELMES D'OLI RECICLAT
LOCATION:Sala Polivalent del Casal. 
METHOD:PUBLISH
X-WR-CALNAME:ullastrell@ullastrell.cat
X-WR-TIMEZONE:Europe/Madrid
DESCRIPTION:Dins les activitats de l' 11 Fira de l'Oli d'oliva d'Ullastrell

URI:https://www.ullastrell.cat/actualitat/agenda/taller-espelmes-doli-reciclat.html
CLASS:PUBLIC
END:VEVENT
END:VCALENDAR
