BEGIN:VCALENDAR
VERSION:2.0
CALSCALE:GREGORIAN
PRODID:-//Diputació de Barcelona//DibaCMS//EN
BEGIN:VEVENT
UID:5439
DTSTAMP:20260420T113130
DTSTART:20230127T173000
DTEND:20230127T183000
SUMMARY:INAUGURACIÓ DE L' 11 FIRA DE L'OLI D'ULLASTRELL
LOCATION:El Celler 
METHOD:PUBLISH
X-WR-CALNAME:ullastrell@ullastrell.cat
X-WR-TIMEZONE:Europe/Madrid
DESCRIPTION:Donarem el tret de sortida amb diverses activitats obertes a tota la població

URI:https://www.ullastrell.cat/actualitat/agenda/inauguracio-de-l-11-fira-de-loli-dullastrell.html
CLASS:PUBLIC
END:VEVENT
END:VCALENDAR
