BEGIN:VCALENDAR
VERSION:2.0
CALSCALE:GREGORIAN
PRODID:-//Diputació de Barcelona//DibaCMS//EN
BEGIN:VEVENT
UID:5442
DTSTAMP:20260420T115124
DTSTART:20230201T170000
DTEND:20230201T193000
SUMMARY:XERRADA DE SALUT- L'activitat significativa com a promotora de salut.
LOCATION:C/ Josep Fornell, s/n 08231 Ullastrell
METHOD:PUBLISH
X-WR-CALNAME:ullastrell@ullastrell.cat
X-WR-TIMEZONE:Europe/Madrid
DESCRIPTION:Com allò que fem en el dia a dia ens pot mantenir feliços i saludables.

A càrrec de Laura Vidaña

URI:https://www.ullastrell.cat/actualitat/agenda/xerrada-de-salut-lactivitat-significativa-com-a-promotora-de-salut.html
CLASS:PUBLIC
END:VEVENT
END:VCALENDAR
