BEGIN:VCALENDAR
VERSION:2.0
CALSCALE:GREGORIAN
PRODID:-//Diputació de Barcelona//DibaCMS//EN
BEGIN:VEVENT
UID:5449
DTSTAMP:20260420T115632
DTSTART:20230219T120000
DTEND:20230219T140000
SUMMARY:CARNAVAL — KIDS DANCE
LOCATION:Plaça de Les Escoles 
METHOD:PUBLISH
X-WR-CALNAME:ullastrell@ullastrell.cat
X-WR-TIMEZONE:Europe/Madrid
DESCRIPTION:A càrrec de JOS Espectacles SL

Diumenge 19 de febrer a les 12:00h, cantarem i ballarem  a la Pl. de les Escoles amb l’espectacle “KIDS DANCE”. Garantida l’alegria i la gresca!

URI:https://www.ullastrell.cat/actualitat/agenda/carnaval--kids-dance.html
CLASS:PUBLIC
END:VEVENT
END:VCALENDAR
