BEGIN:VCALENDAR
VERSION:2.0
CALSCALE:GREGORIAN
PRODID:-//Diputació de Barcelona//DibaCMS//EN
BEGIN:VEVENT
UID:5463
DTSTAMP:20260420T102800
DTSTART:20230327T170000
DTEND:20230327T190000
SUMMARY:GANXET INTERGENERACIONAL
LOCATION:Sala polivalent del Casal 
METHOD:PUBLISH
X-WR-CALNAME:ullastrell@ullastrell.cat
X-WR-TIMEZONE:Europe/Madrid
DESCRIPTION:Amb la col·laboració de la Colla de la Gent Gran.

URI:https://www.ullastrell.cat/actualitat/agenda/5463-ganxet-intergeneracional.html
CLASS:PUBLIC
END:VEVENT
END:VCALENDAR
