BEGIN:VCALENDAR
VERSION:2.0
CALSCALE:GREGORIAN
PRODID:-//Diputació de Barcelona//DibaCMS//EN
BEGIN:VEVENT
UID:5464
DTSTAMP:20260420T124957
DTSTART:20230329T170000
DTEND:20230329T183000
SUMMARY:XERRADA DE SALUT — ALIMENTACIÓ, DIETES ADAPTADES I ACTIVITATS PER A UN ENVELLIMENT SALUDABLE
LOCATION:C/ Josep Fornell, s/n 08231 Ullastrell
METHOD:PUBLISH
X-WR-CALNAME:ullastrell@ullastrell.cat
X-WR-TIMEZONE:Europe/Madrid
DESCRIPTION:A càrrec de la Diputació de Barcelona

URI:https://www.ullastrell.cat/actualitat/agenda/xerrada-de-salut--alimentacio-dietes-adaptades-i-activitats-per-a-un-envelliment-saludable.html
CLASS:PUBLIC
END:VEVENT
END:VCALENDAR
