BEGIN:VCALENDAR
VERSION:2.0
CALSCALE:GREGORIAN
PRODID:-//Diputació de Barcelona//DibaCMS//EN
BEGIN:VEVENT
UID:5474
DTSTAMP:20260420T131952
DTSTART:20230125T200000
DTEND:20230125T210000
SUMMARY:PLE ORDINARI 25 GENER 2023
LOCATION:
METHOD:PUBLISH
X-WR-CALNAME:ullastrell@ullastrell.cat
X-WR-TIMEZONE:Europe/Madrid
DESCRIPTION:ASSUMPTES DE LA CONVOCATÒRIA

URI:https://www.ullastrell.cat/actualitat/agenda/ple-ordinari-25-gener-2023.html
CLASS:PUBLIC
END:VEVENT
END:VCALENDAR
