BEGIN:VCALENDAR
VERSION:2.0
CALSCALE:GREGORIAN
PRODID:-//Diputació de Barcelona//DibaCMS//EN
BEGIN:VEVENT
UID:5489
DTSTAMP:20260420T143856
DTSTART:20230212T110000
DTEND:20230212T130000
SUMMARY:EXPOSICIÓ - ACTUEM AMB ENERGIA
LOCATION:C/ Serra 37 08231 Ullastrell
METHOD:PUBLISH
X-WR-CALNAME:ullastrell@ullastrell.cat
X-WR-TIMEZONE:Europe/Madrid
DESCRIPTION:Amb la col·laboració de Diputació de Barcelona

Dissabtes de 18:00 h a 20:00 h
Diumenges d'11:00 h a 13:00 h

URI:https://www.ullastrell.cat/actualitat/agenda/5489-exposicio-actuem-amb-energia.html
CLASS:PUBLIC
END:VEVENT
END:VCALENDAR
