BEGIN:VCALENDAR
VERSION:2.0
CALSCALE:GREGORIAN
PRODID:-//Diputació de Barcelona//DibaCMS//EN
BEGIN:VEVENT
UID:5524
DTSTAMP:20260420T102526
DTSTART:20230326T110000
DTEND:20230326T130000
SUMMARY:EXPOSICIÓ — NO ETS TU, SÓN ELS TEUS PRIVILEGIS 
LOCATION:C/ Serra 37 08231 Ullastrell
METHOD:PUBLISH
X-WR-CALNAME:ullastrell@ullastrell.cat
X-WR-TIMEZONE:Europe/Madrid
DESCRIPTION:A càrrec de l’Etnogràfica

URI:https://www.ullastrell.cat/actualitat/agenda/5524-exposicio--no-ets-tu-son-els-teus-privilegis-.html
CLASS:PUBLIC
END:VEVENT
END:VCALENDAR
