BEGIN:VCALENDAR
VERSION:2.0
CALSCALE:GREGORIAN
PRODID:-//Diputació de Barcelona//DibaCMS//EN
BEGIN:VEVENT
UID:5530
DTSTAMP:20260420T103618
DTSTART:20230307T190000
DTEND:20230307T210000
SUMMARY:PARLEM DE LLIBRES AMB SAFIA EL AADDAM
LOCATION:C/ Josep Fornell, s/n 08231 Ullastrell
METHOD:PUBLISH
X-WR-CALNAME:ullastrell@ullastrell.cat
X-WR-TIMEZONE:Europe/Madrid
DESCRIPTION:Safia El Aaddam és filòloga amb un màster en atenció a la infància i l'adolescència.

URI:https://www.ullastrell.cat/actualitat/agenda/parlem-de-llibres-amb-safia-el-aaddam.html
CLASS:PUBLIC
END:VEVENT
END:VCALENDAR
