BEGIN:VCALENDAR
VERSION:2.0
CALSCALE:GREGORIAN
PRODID:-//Diputació de Barcelona//DibaCMS//EN
BEGIN:VEVENT
UID:5534
DTSTAMP:20260420T103657
DTSTART:20230315T000000
DTEND:20230319T000000
SUMMARY:Festes de Serralavella
LOCATION:
METHOD:PUBLISH
X-WR-CALNAME:ullastrell@ullastrell.cat
X-WR-TIMEZONE:Europe/Madrid
DESCRIPTION:troba tota la info al programa adjunt o a www.serralavella.cat

URI:https://www.ullastrell.cat/actualitat/agenda/5534-festes-de-serralavella.html
CLASS:PUBLIC
END:VEVENT
END:VCALENDAR
