BEGIN:VCALENDAR
VERSION:2.0
CALSCALE:GREGORIAN
PRODID:-//Diputació de Barcelona//DibaCMS//EN
BEGIN:VEVENT
UID:5546
DTSTAMP:20260420T100930
DTSTART:20230410T183000
DTEND:20230410T200000
SUMMARY:TRET DE SORTIDA DE LA II SETMANA DE LA GENT GRAN
LOCATION:Espai de la Gent Gran - Casal Cultural 
METHOD:PUBLISH
X-WR-CALNAME:ullastrell@ullastrell.cat
X-WR-TIMEZONE:Europe/Madrid
DESCRIPTION:
URI:https://www.ullastrell.cat/actualitat/agenda/tret-de-sortida-de-la-ii-setmana-de-la-gent-gran.html
CLASS:PUBLIC
END:VEVENT
END:VCALENDAR
