BEGIN:VCALENDAR
VERSION:2.0
CALSCALE:GREGORIAN
PRODID:-//Diputació de Barcelona//DibaCMS//EN
BEGIN:VEVENT
UID:5547
DTSTAMP:20260420T123859
DTSTART:20230411T090000
DTEND:20230411T110000
SUMMARY:PASSEJADA FINS EL BOLET
LOCATION:Punt de trobada davant l'Ajuntament 
METHOD:PUBLISH
X-WR-CALNAME:ullastrell@ullastrell.cat
X-WR-TIMEZONE:Europe/Madrid
DESCRIPTION:Amb la dinamització d’Eli Amat.

URI:https://www.ullastrell.cat/actualitat/agenda/passejada-fins-el-bolet.html
CLASS:PUBLIC
END:VEVENT
END:VCALENDAR
