BEGIN:VCALENDAR
VERSION:2.0
CALSCALE:GREGORIAN
PRODID:-//Diputació de Barcelona//DibaCMS//EN
BEGIN:VEVENT
UID:5552
DTSTAMP:20260420T103147
DTSTART:20230413T140000
DTEND:20230413T160000
SUMMARY:DINAR POPULAR AMB LA CARMANYOLA 
LOCATION:C/ Josep Fornell, s/n 08231 Ullastrell
METHOD:PUBLISH
X-WR-CALNAME:ullastrell@ullastrell.cat
X-WR-TIMEZONE:Europe/Madrid
DESCRIPTION:Inscripcions: Rosa Maria 627220771 (mòbil i whatsApp) i fixe: 937304638 i Nuri Sucarrats 654141078 (mòbil i whatsApp).

URI:https://www.ullastrell.cat/actualitat/agenda/dinar-popular-amb-la-carmanyola-.html
CLASS:PUBLIC
END:VEVENT
END:VCALENDAR
