BEGIN:VCALENDAR
VERSION:2.0
CALSCALE:GREGORIAN
PRODID:-//Diputació de Barcelona//DibaCMS//EN
BEGIN:VEVENT
UID:5557
DTSTAMP:20260420T090622
DTSTART:20230414T183000
DTEND:20230414T200000
SUMMARY:XERRADA: "UCRAÏNA: PROBLEMES  I CONSEQÜÈNCIES"
LOCATION:C/ Josep Fornell, s/n 08231 Ullastrell
METHOD:PUBLISH
X-WR-CALNAME:ullastrell@ullastrell.cat
X-WR-TIMEZONE:Europe/Madrid
DESCRIPTION:
URI:https://www.ullastrell.cat/actualitat/agenda/xerrada-ucrana-problemes-i-consequencies.html
CLASS:PUBLIC
END:VEVENT
END:VCALENDAR
