BEGIN:VCALENDAR
VERSION:2.0
CALSCALE:GREGORIAN
PRODID:-//Diputació de Barcelona//DibaCMS//EN
BEGIN:VEVENT
UID:5560
DTSTAMP:20260420T103544
DTSTART:20230415T193000
DTEND:20230415T210000
SUMMARY:CONCERT DE LA CORAL D'ULLASTRELL
LOCATION:C/ Josep Fornell, s/n 08231 Ullastrell
METHOD:PUBLISH
X-WR-CALNAME:ullastrell@ullastrell.cat
X-WR-TIMEZONE:Europe/Madrid
DESCRIPTION:En acabar, berenar popular amb pa amb tomàquet i embotits a l'Espai de la Gent Gran.

URI:https://www.ullastrell.cat/actualitat/agenda/concert-de-la-coral-dullastrell.html
CLASS:PUBLIC
END:VEVENT
END:VCALENDAR
