BEGIN:VCALENDAR
VERSION:2.0
CALSCALE:GREGORIAN
PRODID:-//Diputació de Barcelona//DibaCMS//EN
BEGIN:VEVENT
UID:5562
DTSTAMP:20260420T090604
DTSTART:20230416T123000
DTEND:20230416T141500
SUMMARY:MISSA PELS DIFUNTS
LOCATION:Plaça de l'església, 2 08231 Ullastrell
METHOD:PUBLISH
X-WR-CALNAME:ullastrell@ullastrell.cat
X-WR-TIMEZONE:Europe/Madrid
DESCRIPTION:Missa pels difunts de la Gent gran que ens han deixat aquest darrer any.

URI:https://www.ullastrell.cat/actualitat/agenda/missa-pels-difunts.html
CLASS:PUBLIC
END:VEVENT
END:VCALENDAR
