BEGIN:VCALENDAR
VERSION:2.0
CALSCALE:GREGORIAN
PRODID:-//Diputació de Barcelona//DibaCMS//EN
BEGIN:VEVENT
UID:5565
DTSTAMP:20260420T091856
DTSTART:20230416T201500
DTEND:20230416T204500
SUMMARY:CLOENDA DE LA II SETMANA DE LA GENT GRAN
LOCATION:Espai de La Gent Gran 
METHOD:PUBLISH
X-WR-CALNAME:ullastrell@ullastrell.cat
X-WR-TIMEZONE:Europe/Madrid
DESCRIPTION:Cloenda de la II Setmana de la Gent Gran amb copa de cava per a tothom.

URI:https://www.ullastrell.cat/actualitat/agenda/cloenda-de-la-ii-setmana-de-la-gent-gran.html
CLASS:PUBLIC
END:VEVENT
END:VCALENDAR
