BEGIN:VCALENDAR
VERSION:2.0
CALSCALE:GREGORIAN
PRODID:-//Diputació de Barcelona//DibaCMS//EN
BEGIN:VEVENT
UID:5569
DTSTAMP:20260420T115909
DTSTART:20230418T170000
DTEND:20230418T183000
SUMMARY:XERRADA DE SALUT: SOBREPÈS I OBESITAT
LOCATION:C/ Josep Fornell, s/n 08231 Ullastrell
METHOD:PUBLISH
X-WR-CALNAME:ullastrell@ullastrell.cat
X-WR-TIMEZONE:Europe/Madrid
DESCRIPTION:A càrrec de Susana Cánovas

 

La nutricionista Susana Cánovas ens parlarà sobre el sobrepès i l’obesitat i la seva relació amb l’alimentació saludable. Col.labora Mutua de Terrassa

URI:https://www.ullastrell.cat/actualitat/agenda/xerrada-de-salut-sobrepes-i-obesitat.html
CLASS:PUBLIC
END:VEVENT
END:VCALENDAR
