BEGIN:VCALENDAR
VERSION:2.0
CALSCALE:GREGORIAN
PRODID:-//Diputació de Barcelona//DibaCMS//EN
BEGIN:VEVENT
UID:5574
DTSTAMP:20260420T113730
DTSTART:20230423T190000
DTEND:20230423T210000
SUMMARY:MOSTRA DE TEATRE: LAPONIA
LOCATION:C/ Josep Fornell, s/n 08231 Ullastrell
METHOD:PUBLISH
X-WR-CALNAME:ullastrell@ullastrell.cat
X-WR-TIMEZONE:Europe/Madrid
DESCRIPTION:Dins la 34a Mostra de Teatre IV Memorial Roser Anglada

URI:https://www.ullastrell.cat/actualitat/agenda/mostra-de-teatre-laponia.html
CLASS:PUBLIC
END:VEVENT
END:VCALENDAR
