BEGIN:VCALENDAR
VERSION:2.0
CALSCALE:GREGORIAN
PRODID:-//Diputació de Barcelona//DibaCMS//EN
BEGIN:VEVENT
UID:5579
DTSTAMP:20260420T143943
DTSTART:20230429T113000
DTEND:20230429T130000
SUMMARY:PRESENTACIÓ DE LLIBRE AMB CINTO AMAT
LOCATION:C/ Serra 37 08231 Ullastrell
METHOD:PUBLISH
X-WR-CALNAME:ullastrell@ullastrell.cat
X-WR-TIMEZONE:Europe/Madrid
DESCRIPTION:Cinto Amat Bigordà presenta ''Ullastrell a la memòria: Notes de l’arxiu històric familiar''

URI:https://www.ullastrell.cat/actualitat/agenda/presentacio-de-llibre-amb-cinto-amat.html
CLASS:PUBLIC
END:VEVENT
END:VCALENDAR
