BEGIN:VCALENDAR
VERSION:2.0
CALSCALE:GREGORIAN
PRODID:-//Diputació de Barcelona//DibaCMS//EN
BEGIN:VEVENT
UID:5587
DTSTAMP:20260420T085847
DTSTART:20230521T190000
DTEND:20230521T200000
SUMMARY:MOSTRA DE TEATRE - RENT
LOCATION:C/ Josep Fornell, s/n 08231 Ullastrell
METHOD:PUBLISH
X-WR-CALNAME:ullastrell@ullastrell.cat
X-WR-TIMEZONE:Europe/Madrid
DESCRIPTION:Organitza GATU

URI:https://www.ullastrell.cat/actualitat/agenda/mostra-de-teatre-rent.html
CLASS:PUBLIC
END:VEVENT
END:VCALENDAR
