BEGIN:VCALENDAR
VERSION:2.0
CALSCALE:GREGORIAN
PRODID:-//Diputació de Barcelona//DibaCMS//EN
BEGIN:VEVENT
UID:5592
DTSTAMP:20260420T085751
DTSTART:20230601T170000
DTEND:20230601T183000
SUMMARY:JOCS DE TAULA INFANTIL I JUVENIL
LOCATION:C/ Josep Fornell, s/n 08231 Ullastrell
METHOD:PUBLISH
X-WR-CALNAME:ullastrell@ullastrell.cat
X-WR-TIMEZONE:Europe/Madrid
DESCRIPTION:A càrrec de Jugar X Jugar

URI:https://www.ullastrell.cat/actualitat/agenda/5592-jocs-de-taula-infantil-i-juvenil.html
CLASS:PUBLIC
END:VEVENT
END:VCALENDAR
