BEGIN:VCALENDAR
VERSION:2.0
CALSCALE:GREGORIAN
PRODID:-//Diputació de Barcelona//DibaCMS//EN
BEGIN:VEVENT
UID:5593
DTSTAMP:20260420T101747
DTSTART:20230606T170000
DTEND:20230606T190000
SUMMARY:TALLER DE COMPOSTATGE
LOCATION:Altell del Casal Cultural 
METHOD:PUBLISH
X-WR-CALNAME:ullastrell@ullastrell.cat
X-WR-TIMEZONE:Europe/Madrid
DESCRIPTION:A càrrec del Consorci per la Gestió de Residus del Vallès Occidental.

URI:https://www.ullastrell.cat/actualitat/agenda/taller-de-compostatge.html
CLASS:PUBLIC
END:VEVENT
END:VCALENDAR
