BEGIN:VCALENDAR
VERSION:2.0
CALSCALE:GREGORIAN
PRODID:-//Diputació de Barcelona//DibaCMS//EN
BEGIN:VEVENT
UID:5596
DTSTAMP:20260420T073039
DTSTART:20230610T110000
DTEND:20230610T123000
SUMMARY:ESPECTACLE: EXPLORADORS DE L'AIGUA 
LOCATION:C/ Serra, 17 08231 Ullastrell
METHOD:PUBLISH
X-WR-CALNAME:ullastrell@ullastrell.cat
X-WR-TIMEZONE:Europe/Madrid
DESCRIPTION:A càrrec de la companyia Pessic de Circ.

URI:https://www.ullastrell.cat/actualitat/agenda/espectacle-exploradors-de-laigua-.html
CLASS:PUBLIC
END:VEVENT
END:VCALENDAR
