BEGIN:VCALENDAR
VERSION:2.0
CALSCALE:GREGORIAN
PRODID:-//Diputació de Barcelona//DibaCMS//EN
BEGIN:VEVENT
UID:5597
DTSTAMP:20260420T105611
DTSTART:20230611T100000
DTEND:20230611T113000
SUMMARY:CAMINADA FAMILIAR: NETEGEM EL NOSTRE ENTORN i ESMORZAR POPULAR
LOCATION:Punt de trobada: Plaça Lluís Companys. 
METHOD:PUBLISH
X-WR-CALNAME:ullastrell@ullastrell.cat
X-WR-TIMEZONE:Europe/Madrid
DESCRIPTION:Ens trobarem per fer una caminada pel nostre poble i entorn mentre netegem aquelles deixalles que trobem pel camí.

URI:https://www.ullastrell.cat/actualitat/agenda/caminada-familiar-netegem-el-nostre-entorn-i-esmorzar-popular.html
CLASS:PUBLIC
END:VEVENT
END:VCALENDAR
