BEGIN:VCALENDAR
VERSION:2.0
CALSCALE:GREGORIAN
PRODID:-//Diputació de Barcelona//DibaCMS//EN
BEGIN:VEVENT
UID:5603
DTSTAMP:20260420T085715
DTSTART:20230628T170000
DTEND:20230628T180000
SUMMARY:FABULÒRUM CIA. SIFÓ - POSPOSADA!!!
LOCATION:C/ Josep Fornell, s/n 08231 Ullastrell
METHOD:PUBLISH
X-WR-CALNAME:ullastrell@ullastrell.cat
X-WR-TIMEZONE:Europe/Madrid
DESCRIPTION:Organitza Bibliobús La Mola.

URI:https://www.ullastrell.cat/actualitat/agenda/fabulorum-cia-sifo-posposada.html
CLASS:PUBLIC
END:VEVENT
END:VCALENDAR
