BEGIN:VCALENDAR
VERSION:2.0
CALSCALE:GREGORIAN
PRODID:-//Diputació de Barcelona//DibaCMS//EN
BEGIN:VEVENT
UID:5614
DTSTAMP:20260420T085552
DTSTART:20230510T180000
DTEND:20230510T193000
SUMMARY:XERRADA PER A FAMÍLIES: PARLEM DE DIVERSITAT DE GÈNERE
LOCATION:C/ Josep Fornell, s/n 08231 Ullastrell
METHOD:PUBLISH
X-WR-CALNAME:ullastrell@ullastrell.cat
X-WR-TIMEZONE:Europe/Madrid
DESCRIPTION:Refelexionarem com podem acompanyar, orientar i donar suport als nostres fills i filles en la recerca de la pròpia identitat de gènere.

URI:https://www.ullastrell.cat/actualitat/agenda/xerrada-per-a-families-parlem-de-diversitat-de-genere.html
CLASS:PUBLIC
END:VEVENT
END:VCALENDAR
