BEGIN:VCALENDAR
VERSION:2.0
CALSCALE:GREGORIAN
PRODID:-//Diputació de Barcelona//DibaCMS//EN
BEGIN:VEVENT
UID:5637
DTSTAMP:20260420T090538
DTSTART:20230607T190000
DTEND:20230607T203000
SUMMARY:Xerrada de mobilitat internacional per joves
LOCATION:Plaça de les escoles, 1 08231 Ullastrell
METHOD:PUBLISH
X-WR-CALNAME:ullastrell@ullastrell.cat
X-WR-TIMEZONE:Europe/Madrid
DESCRIPTION:Vols treballar, estudiar o fer un voluntariat a l'estranger?

URI:https://www.ullastrell.cat/actualitat/agenda/xerrada-de-mobilitat-internacional-per-joves.html
CLASS:PUBLIC
END:VEVENT
END:VCALENDAR
