BEGIN:VCALENDAR
VERSION:2.0
CALSCALE:GREGORIAN
PRODID:-//Diputació de Barcelona//DibaCMS//EN
BEGIN:VEVENT
UID:5649
DTSTAMP:20260420T073136
DTSTART:20230617T120000
DTEND:20230617T130000
SUMMARY:Ple de constitució 17/06/2023
LOCATION:
METHOD:PUBLISH
X-WR-CALNAME:ullastrell@ullastrell.cat
X-WR-TIMEZONE:Europe/Madrid
DESCRIPTION:
	
		
			A) PART RESOLUTIVA
		
		
			
			
				
					
						 
						001
					
				
			
			
			Constitució de la Corporació: legislatura 2023 - 2027
		
	


URI:https://www.ullastrell.cat/actualitat/agenda/ple-de-constitucio-17062023.html
CLASS:PUBLIC
END:VEVENT
END:VCALENDAR
