BEGIN:VCALENDAR
VERSION:2.0
CALSCALE:GREGORIAN
PRODID:-//Diputació de Barcelona//DibaCMS//EN
BEGIN:VEVENT
UID:5653
DTSTAMP:20260420T085632
DTSTART:20230628T200000
DTEND:20230628T203000
SUMMARY:Ple extraordinari 28/07/2023
LOCATION:
METHOD:PUBLISH
X-WR-CALNAME:ullastrell@ullastrell.cat
X-WR-TIMEZONE:Europe/Madrid
DESCRIPTION:ORDRE DEL DIA

URI:https://www.ullastrell.cat/actualitat/agenda/ple-extraordinari-28072023.html
CLASS:PUBLIC
END:VEVENT
END:VCALENDAR
