BEGIN:VCALENDAR
VERSION:2.0
CALSCALE:GREGORIAN
PRODID:-//Diputació de Barcelona//DibaCMS//EN
BEGIN:VEVENT
UID:5657
DTSTAMP:20260420T085525
DTSTART:20230708T220000
DTEND:20230708T225900
SUMMARY:Cinema a la Fresca - ALCARRÀS 
LOCATION:Pl. de les Escoles  
METHOD:PUBLISH
X-WR-CALNAME:ullastrell@ullastrell.cat
X-WR-TIMEZONE:Europe/Madrid
DESCRIPTION:La família Solé porta diverses generacions conreant una gran extensió de presseguers a Alcarràs, una petita localitat rural de Catalunya. Però aquest estiu pot ser que sigui la seva última collita: la fruita ja no els surt rentable i els panells solars estan substituint als arbres. 

URI:https://www.ullastrell.cat/actualitat/agenda/cinema-a-la-fresca-alcarras-.html
CLASS:PUBLIC
END:VEVENT
END:VCALENDAR
