BEGIN:VCALENDAR
VERSION:2.0
CALSCALE:GREGORIAN
PRODID:-//Diputació de Barcelona//DibaCMS//EN
BEGIN:VEVENT
UID:5660
DTSTAMP:20260420T083508
DTSTART:20230715T220000
DTEND:20230715T225900
SUMMARY:Cinema a la Fresca - LOS FABBELMAN
LOCATION:Pl. de les Escoles  
METHOD:PUBLISH
X-WR-CALNAME:ullastrell@ullastrell.cat
X-WR-TIMEZONE:Europe/Madrid
DESCRIPTION:Film semiautobiogràfic de la pròpia infància i joventut de Spielberg. Ambientada a la fi de la dècada de 1950 i principis dels anys 60, un nen d'Arizona anomenat Sammy Fabelman, influït per la seva excèntrica mare, artista, i el seu pragmàtic pare, enginyer informàtic, descobreix un secret familiar devastador i explora com el poder de les pel·lícules pot ajudar-lo a explicar històries i a forjar la seva pròpia identitat.

URI:https://www.ullastrell.cat/actualitat/agenda/cinema-a-la-fresca-los-fabbelman.html
CLASS:PUBLIC
END:VEVENT
END:VCALENDAR
