BEGIN:VCALENDAR
VERSION:2.0
CALSCALE:GREGORIAN
PRODID:-//Diputació de Barcelona//DibaCMS//EN
BEGIN:VEVENT
UID:5661
DTSTAMP:20260420T071337
DTSTART:20230729T220000
DTEND:20230729T225900
SUMMARY:Cinema a la Fresca - PADRE NO HAY MÁS QUE UNO 3
LOCATION:Pl. de les Escoles  
METHOD:PUBLISH
X-WR-CALNAME:ullastrell@ullastrell.cat
X-WR-TIMEZONE:Europe/Madrid
DESCRIPTION:S' acosta el Nadal. Els nens trenquen accidentalment una figureta de Betlem de col·lecció del seu pare i n 'han d' aconseguir per tots els mitjans una d'igual.

URI:https://www.ullastrell.cat/actualitat/agenda/cinema-a-la-fresca-padre-no-hay-mas-que-uno-3.html
CLASS:PUBLIC
END:VEVENT
END:VCALENDAR
