BEGIN:VCALENDAR
VERSION:2.0
CALSCALE:GREGORIAN
PRODID:-//Diputació de Barcelona//DibaCMS//EN
BEGIN:VEVENT
UID:5662
DTSTAMP:20260420T102437
DTSTART:20230706T213000
DTEND:20230706T223000
SUMMARY:En directe a les estrelles - SET DE RUMBA
LOCATION:Terrassa de l'Altell del Casal Cultural 
METHOD:PUBLISH
X-WR-CALNAME:ullastrell@ullastrell.cat
X-WR-TIMEZONE:Europe/Madrid
DESCRIPTION:Gaudirem d'un set camaleònic de tres músics tocant en un engranatge perfecte.

URI:https://www.ullastrell.cat/actualitat/agenda/en-directe-a-les-estrelles-set-de-rumba.html
CLASS:PUBLIC
END:VEVENT
END:VCALENDAR
