BEGIN:VCALENDAR
VERSION:2.0
CALSCALE:GREGORIAN
PRODID:-//Diputació de Barcelona//DibaCMS//EN
BEGIN:VEVENT
UID:5663
DTSTAMP:20260420T101308
DTSTART:20230713T213000
DTEND:20230713T223000
SUMMARY:En directe a les estrelles - ANNA TAPIA & EDDIE MEJÍA
LOCATION:Terrassa de l'Altell del Casal Cultural 
METHOD:PUBLISH
X-WR-CALNAME:ullastrell@ullastrell.cat
X-WR-TIMEZONE:Europe/Madrid
DESCRIPTION:Aquest duet navegarà per les cançons d'autor amb versions i temes propis.

URI:https://www.ullastrell.cat/actualitat/agenda/en-directe-a-les-estrelles-set-de-rumba-duplicat.html
CLASS:PUBLIC
END:VEVENT
END:VCALENDAR
