BEGIN:VCALENDAR
VERSION:2.0
CALSCALE:GREGORIAN
PRODID:-//Diputació de Barcelona//DibaCMS//EN
BEGIN:VEVENT
UID:5664
DTSTAMP:20260420T072311
DTSTART:20230720T213000
DTEND:20230720T223000
SUMMARY:En directe a les estrelles - BANDCOVER
LOCATION:Terrassa de l'Altell del Casal Cultural 
METHOD:PUBLISH
X-WR-CALNAME:ullastrell@ullastrell.cat
X-WR-TIMEZONE:Europe/Madrid
DESCRIPTION:Tindrem l'oportunitat de reviure el retrobament musical d'aquests quatre amics ullastrellencs que a través de temes propis i versions ens faran passar una bona estona. 

URI:https://www.ullastrell.cat/actualitat/agenda/5662-en-directe-a-les-estrelles-set-de-rumba-duplicat.html
CLASS:PUBLIC
END:VEVENT
END:VCALENDAR
