BEGIN:VCALENDAR
VERSION:2.0
CALSCALE:GREGORIAN
PRODID:-//Diputació de Barcelona//DibaCMS//EN
BEGIN:VEVENT
UID:5668
DTSTAMP:20260420T130548
DTSTART:20230705T200000
DTEND:20230705T210000
SUMMARY:Ple extraordinari 5 de juliol de 2023
LOCATION:
METHOD:PUBLISH
X-WR-CALNAME:ullastrell@ullastrell.cat
X-WR-TIMEZONE:Europe/Madrid
DESCRIPTION:Tipus de convocatòria: Extraordinària

Motiu: «Cartipàs»

URI:https://www.ullastrell.cat/actualitat/agenda/ple-extraordinari-5-de-juliol-de-2023.html
CLASS:PUBLIC
END:VEVENT
END:VCALENDAR
