BEGIN:VCALENDAR
VERSION:2.0
CALSCALE:GREGORIAN
PRODID:-//Diputació de Barcelona//DibaCMS//EN
BEGIN:VEVENT
UID:5671
DTSTAMP:20260420T072549
DTSTART:20230712T180000
DTEND:20230712T200000
SUMMARY:Estiu Jove - FUTBOL TENIS
LOCATION:C/ Josep Fornell, s/n 08231 Ullastrell
METHOD:PUBLISH
X-WR-CALNAME:ullastrell@ullastrell.cat
X-WR-TIMEZONE:Europe/Madrid
DESCRIPTION:Vine a passar la tarda gaudint de l'esport!

URI:https://www.ullastrell.cat/actualitat/agenda/estiu-jove-futbol-tenis.html
CLASS:PUBLIC
END:VEVENT
END:VCALENDAR
