BEGIN:VCALENDAR
VERSION:2.0
CALSCALE:GREGORIAN
PRODID:-//Diputació de Barcelona//DibaCMS//EN
BEGIN:VEVENT
UID:5672
DTSTAMP:20260420T072606
DTSTART:20230715T090000
DTEND:20230715T210000
SUMMARY:Estiu Jove - TORNEIG DE FUTBOL 7
LOCATION:
METHOD:PUBLISH
X-WR-CALNAME:ullastrell@ullastrell.cat
X-WR-TIMEZONE:Europe/Madrid
DESCRIPTION:Organitza: Oju Malparlats.

 

 

URI:https://www.ullastrell.cat/actualitat/agenda/estiu-jove-torneig-de-futbol-7.html
CLASS:PUBLIC
END:VEVENT
END:VCALENDAR
