BEGIN:VCALENDAR
VERSION:2.0
CALSCALE:GREGORIAN
PRODID:-//Diputació de Barcelona//DibaCMS//EN
BEGIN:VEVENT
UID:5673
DTSTAMP:20260420T084115
DTSTART:20230719T180000
DTEND:20230719T200000
SUMMARY:Estiu Jove - CORFBAL I INFLABLES
LOCATION:C/ Josep Fornell, s/n 08231 Ullastrell
METHOD:PUBLISH
X-WR-CALNAME:ullastrell@ullastrell.cat
X-WR-TIMEZONE:Europe/Madrid
DESCRIPTION:A partir de 12 anys.

Inscripcions aquí: https://forms.gle/QHV6ZgWAPLr9yysV6 o per whatsapp 662191683

URI:https://www.ullastrell.cat/actualitat/agenda/estiu-jove-corfbal-i-inflables.html
CLASS:PUBLIC
END:VEVENT
END:VCALENDAR
