BEGIN:VCALENDAR
VERSION:2.0
CALSCALE:GREGORIAN
PRODID:-//Diputació de Barcelona//DibaCMS//EN
BEGIN:VEVENT
UID:5674
DTSTAMP:20260420T055003
DTSTART:20230722T190000
DTEND:20230722T235900
SUMMARY:Estiu Jove - HATTRICKY FEST
LOCATION:Pati de Les Moreres 
METHOD:PUBLISH
X-WR-CALNAME:ullastrell@ullastrell.cat
X-WR-TIMEZONE:Europe/Madrid
DESCRIPTION:Organitza OJU Malparlats

URI:https://www.ullastrell.cat/actualitat/agenda/estiu-jove-hattricky-fest.html
CLASS:PUBLIC
END:VEVENT
END:VCALENDAR
