BEGIN:VCALENDAR
VERSION:2.0
CALSCALE:GREGORIAN
PRODID:-//Diputació de Barcelona//DibaCMS//EN
BEGIN:VEVENT
UID:5675
DTSTAMP:20260420T102619
DTSTART:20230730T173000
DTEND:20230730T210000
SUMMARY:Estiu Jove - SORTIDA JOVE
LOCATION:Pàrquing de Les Escoles Velles 
METHOD:PUBLISH
X-WR-CALNAME:ullastrell@ullastrell.cat
X-WR-TIMEZONE:Europe/Madrid
DESCRIPTION:Organitza OJU Malparlats

URI:https://www.ullastrell.cat/actualitat/agenda/estiu-jove-sortida-jove.html
CLASS:PUBLIC
END:VEVENT
END:VCALENDAR
