BEGIN:VCALENDAR
VERSION:2.0
CALSCALE:GREGORIAN
PRODID:-//Diputació de Barcelona//DibaCMS//EN
BEGIN:VEVENT
UID:5677
DTSTAMP:20260420T054929
DTSTART:20230727T213000
DTEND:20230727T223000
SUMMARY:En directe a les estrelles - TIEMPO DE SER 
LOCATION:Terrassa de l'Altell del Casal Cultural 
METHOD:PUBLISH
X-WR-CALNAME:ullastrell@ullastrell.cat
X-WR-TIMEZONE:Europe/Madrid
DESCRIPTION:Acabem el cicle amb la banda sonora que ens convidarà a escoltar temes de bossanova, balades, blues i gipsy.

URI:https://www.ullastrell.cat/actualitat/agenda/en-directe-a-les-estrelles-tiempo-de-ser-.html
CLASS:PUBLIC
END:VEVENT
END:VCALENDAR
