BEGIN:VCALENDAR
VERSION:2.0
CALSCALE:GREGORIAN
PRODID:-//Diputació de Barcelona//DibaCMS//EN
BEGIN:VEVENT
UID:5680
DTSTAMP:20260420T071250
DTSTART:20230719T200000
DTEND:20230719T210000
SUMMARY:Ple ordinari 19 de juliol 2023
LOCATION:Sala de Plens 
METHOD:PUBLISH
X-WR-CALNAME:ullastrell@ullastrell.cat
X-WR-TIMEZONE:Europe/Madrid
DESCRIPTION:Tipus de convocatòria: Ordinària
Data i hora: 19  de juliol  2023 a les 20:00

URI:https://www.ullastrell.cat/actualitat/agenda/ple-ordinari-19-de-juliol-2023.html
CLASS:PUBLIC
END:VEVENT
END:VCALENDAR
