BEGIN:VCALENDAR
VERSION:2.0
CALSCALE:GREGORIAN
PRODID:-//Diputació de Barcelona//DibaCMS//EN
BEGIN:VEVENT
UID:5687
DTSTAMP:20260420T085454
DTSTART:20230724T193000
DTEND:20230724T210000
SUMMARY:Presentació de llibre: Era dia d'estimar, de Pepa Carreras Valls
LOCATION:C/ Serra 37 08231 Ullastrell
METHOD:PUBLISH
X-WR-CALNAME:ullastrell@ullastrell.cat
X-WR-TIMEZONE:Europe/Madrid
DESCRIPTION:
URI:https://www.ullastrell.cat/actualitat/agenda/presentacio-de-llibre-era-dia-destimar-de-pepa-carreras-valls.html
CLASS:PUBLIC
END:VEVENT
END:VCALENDAR
