BEGIN:VCALENDAR
VERSION:2.0
CALSCALE:GREGORIAN
PRODID:-//Diputació de Barcelona//DibaCMS//EN
BEGIN:VEVENT
UID:5690
DTSTAMP:20260420T085703
DTSTART:20230811T190000
DTEND:20230811T203000
SUMMARY: Inauguració exposició - 25 anys de la pujada d'Alpamayo
LOCATION:C/ Serra 37 08231 Ullastrell
METHOD:PUBLISH
X-WR-CALNAME:ullastrell@ullastrell.cat
X-WR-TIMEZONE:Europe/Madrid
DESCRIPTION:Organitza — Grup de Muntanya i Ajuntament d’Ullastrell

URI:https://www.ullastrell.cat/actualitat/agenda/-inauguracio-exposicio-25-anys-de-la-pujada-dalpamayo.html
CLASS:PUBLIC
END:VEVENT
END:VCALENDAR
